<?xml version="1.0" encoding="UTF-8" standalone="no"?>
<metadata xml:lang="en">
<Esri>
<CreaDate>20200918</CreaDate>
<CreaTime>15242100</CreaTime>
<ArcGISFormat>1.0</ArcGISFormat>
<SyncOnce>FALSE</SyncOnce>
<DataProperties>
<itemProps>
<itemName Sync="TRUE">DigitalElevation1Metre_2020</itemName>
<itemLocation>
<linkage Sync="TRUE">file://\\GISSRVEPR4\Data\Raster.gdb</linkage>
<protocol Sync="TRUE">Local Area Network</protocol>
</itemLocation>
<imsContentType Sync="TRUE">002</imsContentType>
<nativeExtBox>
<westBL Sync="TRUE">1742080.000000</westBL>
<eastBL Sync="TRUE">1756480.000000</eastBL>
<southBL Sync="TRUE">5418960.000000</southBL>
<northBL Sync="TRUE">5443440.000000</northBL>
<exTypeCode Sync="TRUE">1</exTypeCode>
</nativeExtBox>
</itemProps>
<coordRef>
<type Sync="TRUE">Projected</type>
<geogcsn Sync="TRUE">GCS_NZGD_2000</geogcsn>
<csUnits Sync="TRUE">Linear Unit: Meter (1.000000)</csUnits>
<projcsn Sync="TRUE">NZGD_2000_New_Zealand_Transverse_Mercator</projcsn>
<peXml Sync="TRUE">&lt;ProjectedCoordinateSystem xsi:type='typens:ProjectedCoordinateSystem' xmlns:xsi='http://www.w3.org/2001/XMLSchema-instance' xmlns:xs='http://www.w3.org/2001/XMLSchema' xmlns:typens='http://www.esri.com/schemas/ArcGIS/10.5'&gt;&lt;WKT&gt;PROJCS[&amp;quot;NZGD_2000_New_Zealand_Transverse_Mercator&amp;quot;,GEOGCS[&amp;quot;GCS_NZGD_2000&amp;quot;,DATUM[&amp;quot;D_NZGD_2000&amp;quot;,SPHEROID[&amp;quot;GRS_1980&amp;quot;,6378137.0,298.257222101]],PRIMEM[&amp;quot;Greenwich&amp;quot;,0.0],UNIT[&amp;quot;Degree&amp;quot;,0.0174532925199433]],PROJECTION[&amp;quot;Transverse_Mercator&amp;quot;],PARAMETER[&amp;quot;False_Easting&amp;quot;,1600000.0],PARAMETER[&amp;quot;False_Northing&amp;quot;,10000000.0],PARAMETER[&amp;quot;Central_Meridian&amp;quot;,173.0],PARAMETER[&amp;quot;Scale_Factor&amp;quot;,0.9996],PARAMETER[&amp;quot;Latitude_Of_Origin&amp;quot;,0.0],UNIT[&amp;quot;Meter&amp;quot;,1.0]],VERTCS[&amp;quot;unknown&amp;quot;,VDATUM[&amp;quot;unknown&amp;quot;],PARAMETER[&amp;quot;Vertical_Shift&amp;quot;,0.0],PARAMETER[&amp;quot;Direction&amp;quot;,1.0],UNIT[&amp;quot;Meter&amp;quot;,1.0]]&lt;/WKT&gt;&lt;XOrigin&gt;-4020900&lt;/XOrigin&gt;&lt;YOrigin&gt;1900&lt;/YOrigin&gt;&lt;XYScale&gt;450445547.3910538&lt;/XYScale&gt;&lt;ZOrigin&gt;-100000&lt;/ZOrigin&gt;&lt;ZScale&gt;10000&lt;/ZScale&gt;&lt;MOrigin&gt;-100000&lt;/MOrigin&gt;&lt;MScale&gt;10000&lt;/MScale&gt;&lt;XYTolerance&gt;0.001&lt;/XYTolerance&gt;&lt;ZTolerance&gt;0.00020000000000000001&lt;/ZTolerance&gt;&lt;MTolerance&gt;0.00020000000000000001&lt;/MTolerance&gt;&lt;HighPrecision&gt;true&lt;/HighPrecision&gt;&lt;WKID&gt;2193&lt;/WKID&gt;&lt;LatestWKID&gt;2193&lt;/LatestWKID&gt;&lt;/ProjectedCoordinateSystem&gt;</peXml>
</coordRef>
<RasterProperties>
<General>
<PixelDepth Sync="TRUE">32</PixelDepth>
<HasColormap Sync="TRUE">FALSE</HasColormap>
<CompressionType Sync="TRUE">LZW</CompressionType>
<NumBands Sync="TRUE">1</NumBands>
<Format Sync="TRUE">TIFF</Format>
<HasPyramids Sync="TRUE">TRUE</HasPyramids>
<SourceType Sync="TRUE">continuous</SourceType>
<PixelType Sync="TRUE">floating point</PixelType>
<NoDataValue Sync="TRUE">3.4e+038</NoDataValue>
</General>
</RasterProperties>
<lineage>
<Process Date="20200918" Time="152421" ToolSource="c:\users\robert2a\appdata\local\programs\arcgis\pro\Resources\ArcToolbox\toolboxes\Data Management Tools.tbx\MosaicToNewRaster">MosaicToNewRaster DEM_BP31_2020_1000_4946.tif;DEM_BP31_2020_1000_4947.tif;DEM_BP31_2020_1000_5044.tif;DEM_BP31_2020_1000_5045.tif;DEM_BP31_2020_1000_5046.tif;DEM_BP31_2020_1000_5047.tif;DEM_BQ31_2019_1000_0442.tif;DEM_BQ31_2019_1000_0540.tif;DEM_BQ31_2019_1000_0541.tif;DEM_BQ31_2019_1000_0542.tif;DEM_BQ31_2019_1000_0543.tif;DEM_BQ31_2019_1000_0544.tif;DEM_BQ31_2019_1000_0545.tif;DEM_BQ31_2019_1000_0546.tif;DEM_BQ31_2019_1000_0547.tif;DEM_BQ31_2019_1000_0640.tif;DEM_BQ31_2019_1000_0641.tif;DEM_BQ31_2019_1000_0642.tif;DEM_BQ31_2019_1000_0643.tif;DEM_BQ31_2019_1000_0644.tif;DEM_BQ31_2019_1000_0645.tif;DEM_BQ31_2019_1000_0646.tif;DEM_BQ31_2019_1000_0647.tif;DEM_BQ31_2019_1000_0739.tif;DEM_BQ31_2019_1000_0740.tif;DEM_BQ31_2019_1000_0741.tif;DEM_BQ31_2019_1000_0742.tif;DEM_BQ31_2019_1000_0743.tif;DEM_BQ31_2019_1000_0744.tif;DEM_BQ31_2019_1000_0745.tif;DEM_BQ31_2019_1000_0746.tif;DEM_BQ31_2019_1000_0839.tif;DEM_BQ31_2019_1000_0840.tif;DEM_BQ31_2019_1000_0841.tif;DEM_BQ31_2019_1000_0842.tif;DEM_BQ31_2019_1000_0843.tif;DEM_BQ31_2019_1000_0844.tif;DEM_BQ31_2019_1000_0845.tif;DEM_BQ31_2019_1000_0846.tif;DEM_BQ31_2019_1000_0939.tif;DEM_BQ31_2019_1000_0940.tif;DEM_BQ31_2019_1000_0941.tif;DEM_BQ31_2019_1000_0942.tif;DEM_BQ31_2019_1000_0943.tif;DEM_BQ31_2019_1000_0944.tif;DEM_BQ31_2019_1000_0945.tif;DEM_BQ31_2019_1000_0946.tif;DEM_BQ31_2019_1000_1039.tif;DEM_BQ31_2019_1000_1040.tif;DEM_BQ31_2019_1000_1041.tif;DEM_BQ31_2019_1000_1042.tif;DEM_BQ31_2019_1000_1043.tif;DEM_BQ31_2019_1000_1044.tif;DEM_BQ31_2019_1000_1045.tif;DEM_BQ31_2019_1000_1139.tif;DEM_BQ31_2019_1000_1140.tif;DEM_BQ31_2019_1000_1141.tif;DEM_BQ31_2019_1000_1142.tif;DEM_BQ31_2019_1000_1143.tif;DEM_BQ31_2019_1000_1144.tif;DEM_BQ31_2019_1000_1145.tif;DEM_BQ31_2019_1000_1239.tif;DEM_BQ31_2019_1000_1240.tif;DEM_BQ31_2019_1000_1241.tif;DEM_BQ31_2019_1000_1242.tif;DEM_BQ31_2019_1000_1243.tif;DEM_BQ31_2019_1000_1244.tif;DEM_BQ31_2019_1000_1245.tif;DEM_BQ31_2019_1000_1340.tif;DEM_BQ31_2019_1000_1341.tif;DEM_BQ31_2019_1000_1342.tif;DEM_BQ31_2019_1000_1343.tif;DEM_BQ31_2019_1000_1344.tif;DEM_BQ31_2019_1000_1345.tif;DEM_BQ31_2019_1000_1346.tif;DEM_BQ31_2019_1000_1440.tif;DEM_BQ31_2019_1000_1441.tif;DEM_BQ31_2019_1000_1442.tif;DEM_BQ31_2019_1000_1443.tif;DEM_BQ31_2019_1000_1444.tif;DEM_BQ31_2019_1000_1445.tif;DEM_BQ31_2019_1000_1540.tif;DEM_BQ31_2019_1000_1541.tif;DEM_BQ31_2019_1000_1542.tif;DEM_BQ31_2019_1000_1543.tif;DEM_BQ31_2019_1000_1637.tif;DEM_BQ31_2019_1000_1638.tif;DEM_BQ31_2019_1000_1639.tif;DEM_BQ31_2019_1000_1640.tif;DEM_BQ31_2019_1000_1641.tif;DEM_BQ31_2019_1000_1733.tif;DEM_BQ31_2019_1000_1734.tif;DEM_BQ31_2019_1000_1735.tif;DEM_BQ31_2019_1000_1736.tif;DEM_BQ31_2019_1000_1737.tif;DEM_BQ31_2019_1000_1738.tif;DEM_BQ31_2019_1000_1739.tif;DEM_BQ31_2019_1000_1831.tif;DEM_BQ31_2019_1000_1832.tif;DEM_BQ31_2019_1000_1833.tif;DEM_BQ31_2019_1000_1834.tif;DEM_BQ31_2019_1000_1835.tif;DEM_BQ31_2019_1000_1836.tif;DEM_BQ31_2019_1000_1837.tif;DEM_BQ31_2019_1000_1838.tif;DEM_BQ31_2019_1000_1930.tif;DEM_BQ31_2019_1000_1931.tif;DEM_BQ31_2019_1000_1932.tif;DEM_BQ31_2019_1000_1933.tif;DEM_BQ31_2019_1000_1934.tif;DEM_BQ31_2019_1000_1935.tif;DEM_BQ31_2019_1000_1936.tif;DEM_BQ31_2019_1000_1937.tif;DEM_BQ31_2019_1000_1938.tif;DEM_BQ31_2019_1000_2029.tif;DEM_BQ31_2019_1000_2030.tif;DEM_BQ31_2019_1000_2031.tif;DEM_BQ31_2019_1000_2032.tif;DEM_BQ31_2019_1000_2033.tif;DEM_BQ31_2019_1000_2034.tif;DEM_BQ31_2019_1000_2035.tif;DEM_BQ31_2019_1000_2036.tif;DEM_BQ31_2019_1000_2037.tif;DEM_BQ31_2019_1000_2038.tif;DEM_BQ31_2019_1000_2039.tif;DEM_BQ31_2019_1000_2040.tif;DEM_BQ31_2019_1000_2041.tif;DEM_BQ31_2019_1000_2042.tif;DEM_BQ31_2019_1000_2043.tif;DEM_BQ31_2019_1000_2044.tif;DEM_BQ31_2019_1000_2045.tif;DEM_BQ31_2019_1000_2128.tif;DEM_BQ31_2019_1000_2129.tif;DEM_BQ31_2019_1000_2130.tif;DEM_BQ31_2019_1000_2131.tif;DEM_BQ31_2019_1000_2132.tif;DEM_BQ31_2019_1000_2133.tif;DEM_BQ31_2019_1000_2134.tif;DEM_BQ31_2019_1000_2135.tif;DEM_BQ31_2019_1000_2136.tif;DEM_BQ31_2019_1000_2137.tif;DEM_BQ31_2019_1000_2138.tif;DEM_BQ31_2019_1000_2139.tif;DEM_BQ31_2019_1000_2140.tif;DEM_BQ31_2019_1000_2141.tif;DEM_BQ31_2019_1000_2142.tif;DEM_BQ31_2019_1000_2143.tif;DEM_BQ31_2019_1000_2144.tif;DEM_BQ31_2019_1000_2145.tif;DEM_BQ31_2019_1000_2146.tif;DEM_BQ31_2019_1000_2227.tif;DEM_BQ31_2019_1000_2228.tif;DEM_BQ31_2019_1000_2229.tif;DEM_BQ31_2019_1000_2230.tif;DEM_BQ31_2019_1000_2231.tif;DEM_BQ31_2019_1000_2232.tif;DEM_BQ31_2019_1000_2233.tif;DEM_BQ31_2019_1000_2234.tif;DEM_BQ31_2019_1000_2235.tif;DEM_BQ31_2019_1000_2236.tif;DEM_BQ31_2019_1000_2237.tif;DEM_BQ31_2019_1000_2238.tif;DEM_BQ31_2019_1000_2239.tif;DEM_BQ31_2019_1000_2240.tif;DEM_BQ31_2019_1000_2241.tif;DEM_BQ31_2019_1000_2242.tif;DEM_BQ31_2019_1000_2243.tif;DEM_BQ31_2019_1000_2244.tif;DEM_BQ31_2019_1000_2245.tif;DEM_BQ31_2019_1000_2246.tif;DEM_BQ31_2019_1000_2328.tif;DEM_BQ31_2019_1000_2329.tif;DEM_BQ31_2019_1000_2330.tif;DEM_BQ31_2019_1000_2331.tif;DEM_BQ31_2019_1000_2332.tif;DEM_BQ31_2019_1000_2333.tif;DEM_BQ31_2019_1000_2334.tif;DEM_BQ31_2019_1000_2335.tif;DEM_BQ31_2019_1000_2336.tif;DEM_BQ31_2019_1000_2337.tif;DEM_BQ31_2019_1000_2338.tif;DEM_BQ31_2019_1000_2339.tif;DEM_BQ31_2019_1000_2340.tif;DEM_BQ31_2019_1000_2341.tif;DEM_BQ31_2019_1000_2342.tif;DEM_BQ31_2019_1000_2343.tif;DEM_BQ31_2019_1000_2344.tif;DEM_BQ31_2019_1000_2345.tif;DEM_BQ31_2019_1000_2346.tif;DEM_BQ31_2019_1000_2428.tif;DEM_BQ31_2019_1000_2429.tif;DEM_BQ31_2019_1000_2430.tif;DEM_BQ31_2019_1000_2431.tif;DEM_BQ31_2019_1000_2432.tif;DEM_BQ31_2019_1000_2433.tif;DEM_BQ31_2019_1000_2434.tif;DEM_BQ31_2019_1000_2435.tif;DEM_BQ31_2019_1000_2436.tif;DEM_BQ31_2019_1000_2437.tif;DEM_BQ31_2019_1000_2438.tif;DEM_BQ31_2019_1000_2439.tif;DEM_BQ31_2019_1000_2440.tif;DEM_BQ31_2019_1000_2441.tif;DEM_BQ31_2019_1000_2442.tif;DEM_BQ31_2019_1000_2443.tif;DEM_BQ31_2019_1000_2444.tif;DEM_BQ31_2019_1000_2445.tif;DEM_BQ31_2019_1000_2528.tif;DEM_BQ31_2019_1000_2529.tif;DEM_BQ31_2019_1000_2530.tif;DEM_BQ31_2019_1000_2531.tif;DEM_BQ31_2019_1000_2532.tif;DEM_BQ31_2019_1000_2533.tif;DEM_BQ31_2019_1000_2534.tif;DEM_BQ31_2019_1000_2535.tif;DEM_BQ31_2019_1000_2536.tif;DEM_BQ31_2019_1000_2537.tif;DEM_BQ31_2019_1000_2538.tif;DEM_BQ31_2019_1000_2539.tif;DEM_BQ31_2019_1000_2540.tif;DEM_BQ31_2019_1000_2541.tif;DEM_BQ31_2019_1000_2542.tif;DEM_BQ31_2019_1000_2543.tif;DEM_BQ31_2019_1000_2544.tif;DEM_BQ31_2019_1000_2545.tif;DEM_BQ31_2019_1000_2627.tif;DEM_BQ31_2019_1000_2628.tif;DEM_BQ31_2019_1000_2629.tif;DEM_BQ31_2019_1000_2630.tif;DEM_BQ31_2019_1000_2631.tif;DEM_BQ31_2019_1000_2632.tif;DEM_BQ31_2019_1000_2633.tif;DEM_BQ31_2019_1000_2634.tif;DEM_BQ31_2019_1000_2635.tif;DEM_BQ31_2019_1000_2636.tif;DEM_BQ31_2019_1000_2637.tif;DEM_BQ31_2019_1000_2638.tif;DEM_BQ31_2019_1000_2639.tif;DEM_BQ31_2019_1000_2640.tif;DEM_BQ31_2019_1000_2641.tif;DEM_BQ31_2019_1000_2642.tif;DEM_BQ31_2019_1000_2643.tif;DEM_BQ31_2019_1000_2644.tif;DEM_BQ31_2019_1000_2645.tif;DEM_BQ31_2019_1000_2646.tif;DEM_BQ31_2019_1000_2726.tif;DEM_BQ31_2019_1000_2727.tif;DEM_BQ31_2019_1000_2728.tif;DEM_BQ31_2019_1000_2729.tif;DEM_BQ31_2019_1000_2730.tif;DEM_BQ31_2019_1000_2731.tif;DEM_BQ31_2019_1000_2732.tif;DEM_BQ31_2019_1000_2733.tif;DEM_BQ31_2019_1000_2734.tif;DEM_BQ31_2019_1000_2735.tif;DEM_BQ31_2019_1000_2736.tif;DEM_BQ31_2019_1000_2737.tif;DEM_BQ31_2019_1000_2738.tif;DEM_BQ31_2019_1000_2739.tif;DEM_BQ31_2019_1000_2740.tif;DEM_BQ31_2019_1000_2741.tif;DEM_BQ31_2019_1000_2742.tif;DEM_BQ31_2019_1000_2743.tif;DEM_BQ31_2019_1000_2744.tif;DEM_BQ31_2019_1000_2745.tif;DEM_BQ31_2019_1000_2746.tif;DEM_BQ31_2019_1000_2826.tif;DEM_BQ31_2019_1000_2827.tif;DEM_BQ31_2019_1000_2828.tif;DEM_BQ31_2019_1000_2829.tif;DEM_BQ31_2019_1000_2830.tif;DEM_BQ31_2019_1000_2831.tif;DEM_BQ31_2019_1000_2832.tif;DEM_BQ31_2019_1000_2833.tif;DEM_BQ31_2019_1000_2834.tif;DEM_BQ31_2019_1000_2835.tif;DEM_BQ31_2019_1000_2836.tif;DEM_BQ31_2019_1000_2837.tif;DEM_BQ31_2019_1000_2838.tif;DEM_BQ31_2019_1000_2839.tif;DEM_BQ31_2019_1000_2840.tif;DEM_BQ31_2019_1000_2841.tif;DEM_BQ31_2019_1000_2842.tif;DEM_BQ31_2019_1000_2843.tif;DEM_BQ31_2019_1000_2844.tif;DEM_BQ31_2019_1000_2845.tif;DEM_BQ31_2019_1000_2926.tif;DEM_BQ31_2019_1000_2927.tif;DEM_BQ31_2019_1000_2928.tif;DEM_BQ31_2019_1000_2929.tif;DEM_BQ31_2019_1000_2930.tif;DEM_BQ31_2019_1000_2931.tif;DEM_BQ31_2019_1000_2932.tif;DEM_BQ31_2019_1000_2933.tif;DEM_BQ31_2019_1000_2934.tif;DEM_BQ31_2019_1000_2935.tif;DEM_BQ31_2019_1000_2936.tif;DEM_BQ31_2019_1000_2937.tif;DEM_BQ31_2019_1000_2938.tif;DEM_BQ31_2019_1000_2939.tif;DEM_BQ31_2019_1000_2940.tif;DEM_BQ31_2019_1000_2941.tif;DEM_BQ31_2019_1000_2942.tif;DEM_BQ31_2019_1000_2943.tif;DEM_BQ31_2019_1000_2944.tif;DEM_BQ31_2019_1000_3027.tif;DEM_BQ31_2019_1000_3028.tif;DEM_BQ31_2019_1000_3029.tif;DEM_BQ31_2019_1000_3030.tif;DEM_BQ31_2019_1000_3031.tif;DEM_BQ31_2019_1000_3032.tif;DEM_BQ31_2019_1000_3033.tif;DEM_BQ31_2019_1000_3034.tif;DEM_BQ31_2019_1000_3035.tif;DEM_BQ31_2019_1000_3036.tif;DEM_BQ31_2019_1000_3037.tif;DEM_BQ31_2019_1000_3038.tif;DEM_BQ31_2019_1000_3039.tif;DEM_BQ31_2019_1000_3040.tif;DEM_BQ31_2019_1000_3041.tif;DEM_BQ31_2019_1000_3042.tif;DEM_BQ31_2019_1000_3043.tif;DEM_BQ31_2019_1000_3127.tif;DEM_BQ31_2020_1000_0143.tif;DEM_BQ31_2020_1000_0144.tif;DEM_BQ31_2020_1000_0145.tif;DEM_BQ31_2020_1000_0146.tif;DEM_BQ31_2020_1000_0147.tif;DEM_BQ31_2020_1000_0148.tif;DEM_BQ31_2020_1000_0242.tif;DEM_BQ31_2020_1000_0243.tif;DEM_BQ31_2020_1000_0244.tif;DEM_BQ31_2020_1000_0245.tif;DEM_BQ31_2020_1000_0246.tif;DEM_BQ31_2020_1000_0247.tif;DEM_BQ31_2020_1000_0248.tif;DEM_BQ31_2020_1000_0249.tif;DEM_BQ31_2020_1000_0250.tif;DEM_BQ31_2020_1000_0342.tif;DEM_BQ31_2020_1000_0343.tif;DEM_BQ31_2020_1000_0344.tif;DEM_BQ31_2020_1000_0345.tif;DEM_BQ31_2020_1000_0346.tif;DEM_BQ31_2020_1000_0347.tif;DEM_BQ31_2020_1000_0348.tif;DEM_BQ31_2020_1000_0349.tif;DEM_BQ31_2020_1000_0350.tif;DEM_BQ31_2020_1000_0441.tif;DEM_BQ31_2020_1000_0443.tif;DEM_BQ31_2020_1000_0444.tif;DEM_BQ31_2020_1000_0445.tif;DEM_BQ31_2020_1000_0446.tif;DEM_BQ31_2020_1000_0447.tif;DEM_BQ31_2020_1000_0448.tif;DEM_BQ31_2020_1000_0548.tif;DEM_BQ31_2020_1000_0648.tif;DEM_BQ31_2020_1000_0747.tif;DEM_BQ31_2020_1000_0748.tif;DEM_BQ31_2020_1000_0847.tif;DEM_BQ31_2020_1000_0848.tif;DEM_BQ31_2020_1000_0938.tif;DEM_BQ31_2020_1000_0947.tif;DEM_BQ31_2020_1000_0948.tif;DEM_BQ31_2020_1000_0949.tif;DEM_BQ31_2020_1000_1025.tif;DEM_BQ31_2020_1000_1038.tif;DEM_BQ31_2020_1000_1046.tif;DEM_BQ31_2020_1000_1047.tif;DEM_BQ31_2020_1000_1048.tif;DEM_BQ31_2020_1000_1049.tif;DEM_BQ31_2020_1000_1125.tif;DEM_BQ31_2020_1000_1138.tif;DEM_BQ31_2020_1000_1146.tif;DEM_BQ31_2020_1000_1147.tif;DEM_BQ31_2020_1000_1148.tif;DEM_BQ31_2020_1000_1149.tif;DEM_BQ31_2020_1000_1150.tif;DEM_BQ31_2020_1000_1236.tif;DEM_BQ31_2020_1000_1237.tif;DEM_BQ31_2020_1000_1238.tif;DEM_BQ31_2020_1000_1246.tif;DEM_BQ31_2020_1000_1247.tif;DEM_BQ31_2020_1000_1333.tif;DEM_BQ31_2020_1000_1334.tif;DEM_BQ31_2020_1000_1335.tif;DEM_BQ31_2020_1000_1336.tif;DEM_BQ31_2020_1000_1337.tif;DEM_BQ31_2020_1000_1338.tif;DEM_BQ31_2020_1000_1339.tif;DEM_BQ31_2020_1000_1432.tif;DEM_BQ31_2020_1000_1433.tif;DEM_BQ31_2020_1000_1434.tif;DEM_BQ31_2020_1000_1435.tif;DEM_BQ31_2020_1000_1436.tif;DEM_BQ31_2020_1000_1437.tif;DEM_BQ31_2020_1000_1438.tif;DEM_BQ31_2020_1000_1439.tif;DEM_BQ31_2020_1000_1532.tif;DEM_BQ31_2020_1000_1533.tif;DEM_BQ31_2020_1000_1534.tif;DEM_BQ31_2020_1000_1535.tif;DEM_BQ31_2020_1000_1536.tif;DEM_BQ31_2020_1000_1537.tif;DEM_BQ31_2020_1000_1538.tif;DEM_BQ31_2020_1000_1539.tif;DEM_BQ31_2020_1000_1632.tif;DEM_BQ31_2020_1000_1633.tif;DEM_BQ31_2020_1000_1634.tif;DEM_BQ31_2020_1000_1635.tif;DEM_BQ31_2020_1000_1636.tif;DEM_BQ31_2020_1000_1723.tif;DEM_BQ31_2020_1000_1724.tif;DEM_BQ31_2020_1000_1731.tif;DEM_BQ31_2020_1000_1732.tif;DEM_BQ31_2020_1000_1822.tif;DEM_BQ31_2020_1000_1823.tif;DEM_BQ31_2020_1000_1827.tif;DEM_BQ31_2020_1000_1828.tif;DEM_BQ31_2020_1000_1829.tif;DEM_BQ31_2020_1000_1830.tif;DEM_BQ31_2020_1000_1922.tif;DEM_BQ31_2020_1000_1923.tif;DEM_BQ31_2020_1000_1925.tif;DEM_BQ31_2020_1000_1926.tif;DEM_BQ31_2020_1000_1927.tif;DEM_BQ31_2020_1000_1928.tif;DEM_BQ31_2020_1000_1929.tif;DEM_BQ31_2020_1000_2025.tif;DEM_BQ31_2020_1000_2026.tif;DEM_BQ31_2020_1000_2027.tif;DEM_BQ31_2020_1000_2028.tif;DEM_BQ31_2020_1000_2125.tif;DEM_BQ31_2020_1000_2126.tif;DEM_BQ31_2020_1000_2127.tif;DEM_BQ31_2020_1000_2225.tif;DEM_BQ31_2020_1000_2226.tif;DEM_BQ31_2020_1000_2725.tif;DEM_BQ31_2020_1000_2824.tif;DEM_BQ31_2020_1000_2825.tif;DEM_BQ31_2020_1000_2924.tif;DEM_BQ31_2020_1000_2925.tif;DEM_BQ31_2020_1000_3024.tif;DEM_BQ31_2020_1000_3025.tif;DEM_BQ31_2020_1000_3026.tif;DEM_BQ31_2020_1000_3124.tif;DEM_BQ31_2020_1000_3125.tif;DEM_BQ31_2020_1000_3126.tif;DEM_BQ31_2020_1000_3224.tif;DEM_BQ31_2020_1000_3225.tif;DEM_BQ32_2020_1000_1101.tif D:\WellingtonCityCouncil2020LiDAR_SurveyFpfa1273 2020_LiDAR_DEM_1m_Urban.tif PROJCS['NZGD_2000_New_Zealand_Transverse_Mercator',GEOGCS['GCS_NZGD_2000',DATUM['D_NZGD_2000',SPHEROID['GRS_1980',6378137.0,298.257222101]],PRIMEM['Greenwich',0.0],UNIT['Degree',0.0174532925199433]],PROJECTION['Transverse_Mercator'],PARAMETER['False_Easting',1600000.0],PARAMETER['False_Northing',10000000.0],PARAMETER['Central_Meridian',173.0],PARAMETER['Scale_Factor',0.9996],PARAMETER['Latitude_Of_Origin',0.0],UNIT['Meter',1.0]],VERTCS['NZVD2016_height',VDATUM['New_Zealand_Vertical_Datum_2016'],PARAMETER['Vertical_Shift',0.0],PARAMETER['Direction',1.0],UNIT['Meter',1.0]] "32 bit float" 1 1 Last First</Process>
</lineage>
</DataProperties>
<SyncDate>20200929</SyncDate>
<SyncTime>14084600</SyncTime>
<ModDate>20200929</ModDate>
<ModTime>14084600</ModTime>
</Esri>
<dataIdInfo>
<envirDesc Sync="TRUE"> Version 6.2 (Build 9200) ; Esri ArcGIS 10.5.1.7333</envirDesc>
<dataLang>
<languageCode Sync="TRUE" value="eng"/>
<countryCode Sync="TRUE" value="NZL"/>
</dataLang>
<idCitation>
<resTitle Sync="TRUE">DigitalElevation1Metre_2020</resTitle>
<presForm>
<PresFormCd Sync="TRUE" value="011"/>
</presForm>
</idCitation>
<spatRpType>
<SpatRepTypCd Sync="TRUE" value="002"/>
</spatRpType>
<dataExt>
<geoEle>
<GeoBndBox esriExtentType="search">
<exTypeCode Sync="TRUE">1</exTypeCode>
<westBL Sync="TRUE">174.693144</westBL>
<eastBL Sync="TRUE">174.870944</eastBL>
<northBL Sync="TRUE">-41.145276</northBL>
<southBL Sync="TRUE">-41.368341</southBL>
</GeoBndBox>
</geoEle>
</dataExt>
<idAbs/>
<searchKeys>
<keyword>WCC</keyword>
<keyword>DEM</keyword>
</searchKeys>
<idPurp>DEM created from 2019/2020 LiDAR. See supplied Metadata document form Aerial Surveys for more information.</idPurp>
<idCredit/>
<resConst>
<Consts>
<useLimit/>
</Consts>
</resConst>
</dataIdInfo>
<mdLang>
<languageCode Sync="TRUE" value="eng"/>
<countryCode Sync="TRUE" value="NZL"/>
</mdLang>
<mdChar>
<CharSetCd Sync="TRUE" value="004"/>
</mdChar>
<distInfo>
<distFormat>
<formatName Sync="TRUE">File Geodatabase Raster Dataset</formatName>
</distFormat>
</distInfo>
<mdHrLv>
<ScopeCd Sync="TRUE" value="005"/>
</mdHrLv>
<mdHrLvName Sync="TRUE">dataset</mdHrLvName>
<refSysInfo>
<RefSystem>
<refSysID>
<identCode Sync="TRUE" code="2193"/>
<idCodeSpace Sync="TRUE">EPSG</idCodeSpace>
<idVersion Sync="TRUE">7.9.4(9.0.0)</idVersion>
</refSysID>
</RefSystem>
</refSysInfo>
<spatRepInfo>
<Georect>
<cellGeo>
<CellGeoCd Sync="TRUE" value="002"/>
</cellGeo>
<numDims Sync="TRUE">2</numDims>
<tranParaAv Sync="TRUE">1</tranParaAv>
<chkPtAv Sync="TRUE">0</chkPtAv>
<cornerPts>
<pos Sync="TRUE">1742080.000000 5418960.000000</pos>
</cornerPts>
<cornerPts>
<pos Sync="TRUE">1742080.000000 5443440.000000</pos>
</cornerPts>
<cornerPts>
<pos Sync="TRUE">1756480.000000 5443440.000000</pos>
</cornerPts>
<cornerPts>
<pos Sync="TRUE">1756480.000000 5418960.000000</pos>
</cornerPts>
<centerPt>
<pos Sync="TRUE">1749280.000000 5431200.000000</pos>
</centerPt>
<axisDimension type="002">
<dimSize Sync="TRUE">14400</dimSize>
<dimResol>
<value Sync="TRUE" uom="m">1.000000</value>
</dimResol>
</axisDimension>
<axisDimension type="001">
<dimSize Sync="TRUE">24480</dimSize>
<dimResol>
<value Sync="TRUE" uom="m">1.000000</value>
</dimResol>
</axisDimension>
<ptInPixel>
<PixOrientCd Sync="TRUE" value="001"/>
</ptInPixel>
</Georect>
</spatRepInfo>
<contInfo>
<ImgDesc>
<contentTyp>
<ContentTypCd Sync="TRUE" value="001"/>
</contentTyp>
<covDim>
<Band>
<dimDescrp Sync="TRUE">Band_1</dimDescrp>
<maxVal Sync="TRUE">496.541992</maxVal>
<minVal Sync="TRUE">-32767.000000</minVal>
<bitsPerVal Sync="TRUE">32</bitsPerVal>
<valUnit>
<UOM type="length"/>
</valUnit>
</Band>
</covDim>
</ImgDesc>
</contInfo>
<mdDateSt Sync="TRUE">20200929</mdDateSt>
<spdoinfo>
<rastinfo>
<rasttype Sync="TRUE">Pixel</rasttype>
<rowcount Sync="TRUE">24480</rowcount>
<colcount Sync="TRUE">14400</colcount>
<rastxsz Sync="TRUE">1.000000</rastxsz>
<rastysz Sync="TRUE">1.000000</rastysz>
<rastbpp Sync="TRUE">32</rastbpp>
<vrtcount Sync="TRUE">1</vrtcount>
<rastorig Sync="TRUE">Upper Left</rastorig>
<rastcmap Sync="TRUE">FALSE</rastcmap>
<rastcomp Sync="TRUE">LZ77</rastcomp>
<rastband Sync="TRUE">1</rastband>
<rastdtyp Sync="TRUE">pixel codes</rastdtyp>
<rastifor Sync="TRUE">FGDBR</rastifor>
<rastplyr Sync="TRUE">TRUE</rastplyr>
</rastinfo>
</spdoinfo>
<spref>
<horizsys>
<planar>
<planci>
<plance Sync="TRUE">row and column</plance>
<coordrep>
<absres Sync="TRUE">1.000000</absres>
<ordres Sync="TRUE">1.000000</ordres>
</coordrep>
</planci>
</planar>
</horizsys>
</spref>
</metadata>
