{
 "currentVersion": 10.91,
 "serviceDescription": "Imagery/Imagery2017GW",
 "name": "Imagery/Imagery2017GW",
 "description": "",
 "extent": {
  "xmin": 1734400.1287038876,
  "ymin": 5416799.906723626,
  "xmax": 1760800.1286874963,
  "ymax": 5445599.9067951515,
  "spatialReference": {
   "wkid": 2193,
   "latestWkid": 2193
  }
 },
 "initialExtent": {
  "xmin": 1734400.1287038876,
  "ymin": 5416799.906723626,
  "xmax": 1760800.1286874963,
  "ymax": 5445599.9067951515,
  "spatialReference": {
   "wkid": 2193,
   "latestWkid": 2193
  }
 },
 "fullExtent": {
  "xmin": 1734400.1287038876,
  "ymin": 5416799.906723626,
  "xmax": 1760800.1286874963,
  "ymax": 5445599.9067951515,
  "spatialReference": {
   "wkid": 2193,
   "latestWkid": 2193
  }
 },
 "hasMultidimensions": false,
 "pixelSizeX": 0.2999999998137355,
 "pixelSizeY": 0.30000000074505806,
 "datasetFormat": "SDR",
 "uncompressedSize": 33792000000,
 "blockWidth": 128,
 "blockHeight": 128,
 "compressionType": "LZ77",
 "bandNames": [
  "Band_1",
  "Band_2",
  "Band_3",
  "Band_4"
 ],
 "allowCopy": true,
 "allowAnalysis": true,
 "bandCount": 4,
 "pixelType": "U8",
 "minPixelSize": 0,
 "maxPixelSize": 0,
 "copyrightText": "",
 "serviceDataType": "esriImageServiceDataTypeGeneric",
 "serviceSourceType": "esriImageServiceSourceTypeDataset",
 "minValues": [
  10,
  10,
  10,
  7
 ],
 "maxValues": [
  255,
  255,
  255,
  255
 ],
 "meanValues": [
  105.93209908081897,
  116.58644809545618,
  120.30577296180556,
  115.23857731604706
 ],
 "stdvValues": [
  42.856097865588026,
  38.131270572912065,
  34.95387002962267,
  40.40157442988829
 ],
 "objectIdField": "",
 "fields": [],
 "capabilities": "Image,Metadata,Mensuration",
 "defaultMosaicMethod": "Center",
 "allowedMosaicMethods": "",
 "sortField": "",
 "sortValue": null,
 "sortAscending": true,
 "mosaicOperator": "First",
 "defaultCompressionQuality": 75,
 "defaultResamplingMethod": "Bilinear",
 "maxImageHeight": 4100,
 "maxImageWidth": 15000,
 "allowRasterFunction": true,
 "rasterFunctionInfos": [
  {
   "name": "None",
   "description": "",
   "help": ""
  }
 ],
 "rasterTypeInfos": [
  {
   "name": "Raster Dataset",
   "description": "Supports all ArcGIS Raster Datasets",
   "help": ""
  }
 ],
 "mensurationCapabilities": "Basic",
 "hasHistograms": true,
 "hasColormap": false,
 "hasRasterAttributeTable": false,
 "minScale": 0,
 "maxScale": 0,
 "exportTilesAllowed": false,
 "supportsStatistics": false,
 "supportsAdvancedQueries": false,
 "editFieldsInfo": null,
 "ownershipBasedAccessControlForRasters": null,
 "allowComputeTiePoints": false,
 "useStandardizedQueries": true,
 "advancedQueryCapabilities": {
  "useStandardizedQueries": true,
  "supportsStatistics": false,
  "supportsOrderBy": false,
  "supportsDistinct": false,
  "supportsPagination": false
 },
 "spatialReference": {
  "wkid": 2193,
  "latestWkid": 2193
 }
}