{
 "currentVersion": 10.91,
 "serviceDescription": "Imagery/Imagery2021",
 "name": "Imagery/Imagery2021",
 "description": "",
 "extent": {
  "xmin": 1734843.4699,
  "ymin": 5419335.4662,
  "xmax": 1760539.9716,
  "ymax": 5447160.1078,
  "spatialReference": {
   "wkid": 2193,
   "latestWkid": 2193
  }
 },
 "initialExtent": {
  "xmin": 1734843.4699,
  "ymin": 5419335.4662,
  "xmax": 1760539.9716,
  "ymax": 5447160.1078,
  "spatialReference": {
   "wkid": 2193,
   "latestWkid": 2193
  }
 },
 "fullExtent": {
  "xmin": 1734843.4699,
  "ymin": 5419335.4662,
  "xmax": 1760539.9716,
  "ymax": 5447160.1078,
  "spatialReference": {
   "wkid": 2193,
   "latestWkid": 2193
  }
 },
 "hasMultidimensions": false,
 "pixelSizeX": 0.07499978606098325,
 "pixelSizeY": 0.0749998425859057,
 "datasetFormat": "SDR",
 "uncompressedSize": 381333061548,
 "blockWidth": 128,
 "blockHeight": 128,
 "compressionType": "LZ77",
 "bandNames": [
  "Band_1",
  "Band_2",
  "Band_3"
 ],
 "allowCopy": true,
 "allowAnalysis": true,
 "bandCount": 3,
 "pixelType": "U8",
 "minPixelSize": 0,
 "maxPixelSize": 0,
 "copyrightText": "",
 "serviceDataType": "esriImageServiceDataTypeRGB",
 "serviceSourceType": "esriImageServiceSourceTypeDataset",
 "minValues": [
  1,
  1,
  1
 ],
 "maxValues": [
  254,
  254,
  254
 ],
 "meanValues": [
  94.81718747427759,
  106.31109796877836,
  91.95187721913193
 ],
 "stdvValues": [
  43.68191136882083,
  42.4568701025131,
  44.62940752505195
 ],
 "objectIdField": "",
 "fields": [],
 "capabilities": "Mensuration,Image,Metadata",
 "defaultMosaicMethod": "Center",
 "allowedMosaicMethods": "",
 "sortField": "",
 "sortValue": null,
 "sortAscending": true,
 "mosaicOperator": "First",
 "defaultCompressionQuality": 75,
 "defaultResamplingMethod": "Bilinear",
 "maxImageHeight": 4100,
 "maxImageWidth": 15000,
 "allowRasterFunction": true,
 "rasterFunctionInfos": [
  {
   "name": "None",
   "description": "",
   "help": ""
  }
 ],
 "rasterTypeInfos": [
  {
   "name": "Raster Dataset",
   "description": "Supports all ArcGIS Raster Datasets",
   "help": ""
  }
 ],
 "mensurationCapabilities": "Basic",
 "hasHistograms": true,
 "hasColormap": false,
 "hasRasterAttributeTable": false,
 "minScale": 0,
 "maxScale": 0,
 "exportTilesAllowed": false,
 "supportsStatistics": false,
 "supportsAdvancedQueries": false,
 "editFieldsInfo": null,
 "ownershipBasedAccessControlForRasters": null,
 "allowComputeTiePoints": false,
 "useStandardizedQueries": true,
 "advancedQueryCapabilities": {
  "useStandardizedQueries": true,
  "supportsStatistics": false,
  "supportsOrderBy": false,
  "supportsDistinct": false,
  "supportsPagination": false
 },
 "spatialReference": {
  "wkid": 2193,
  "latestWkid": 2193
 }
}