<?xml version="1.0" encoding="UTF-8" standalone="no"?>
<metadata xml:lang="en">
<Esri>
<CreaDate>20210715</CreaDate>
<CreaTime>07021500</CreaTime>
<ArcGISFormat>1.0</ArcGISFormat>
<SyncOnce>FALSE</SyncOnce>
<DataProperties>
<lineage>
<Process Date="20210715" Time="070215" ToolSource="c:\program files\arcgis\pro\Resources\ArcToolbox\toolboxes\Data Management Tools.tbx\CreateRasterDataset">CreateRasterDataset D:\2021Aerials.gdb wcc_rural_aerials2021 # "8 bit unsigned" PROJCS['NZGD_2000_New_Zealand_Transverse_Mercator',GEOGCS['GCS_NZGD_2000',DATUM['D_NZGD_2000',SPHEROID['GRS_1980',6378137.0,298.257222101]],PRIMEM['Greenwich',0.0],UNIT['Degree',0.0174532925199433]],PROJECTION['Transverse_Mercator'],PARAMETER['False_Easting',1600000.0],PARAMETER['False_Northing',10000000.0],PARAMETER['Central_Meridian',173.0],PARAMETER['Scale_Factor',0.9996],PARAMETER['Latitude_Of_Origin',0.0],UNIT['Meter',1.0]] 4 # "PYRAMIDS -1 NEAREST DEFAULT 75 NO_SKIP NO_SIPS" "128 128" LZ77 "-4020763.26772284 19997963.9429363"</Process>
<Process Date="20210715" Time="085106" ToolSource="c:\program files\arcgis\pro\Resources\ArcToolbox\toolboxes\Data Management Tools.tbx\Mosaic">Mosaic 'New Group Layer\GWRC_RGBI_BP31_5K_0810.ecw';'New Group Layer\GWRC_RGBI_BP31_5K_0907.ecw';'New Group Layer\GWRC_RGBI_BP31_5K_0908.ecw';'New Group Layer\GWRC_RGBI_BP31_5K_0909.ecw';'New Group Layer\GWRC_RGBI_BP31_5K_0910.ecw';'New Group Layer\GWRC_RGBI_BP31_5K_1007.ecw';'New Group Layer\GWRC_RGBI_BP31_5K_1008.ecw';'New Group Layer\GWRC_RGBI_BP31_5K_1009.ecw';'New Group Layer\GWRC_RGBI_BP31_5K_1010.ecw';'New Group Layer\GWRC_RGBI_BP32_5K_1001.ecw';'New Group Layer\GWRC_RGBI_BP32_5K_1002.ecw';'New Group Layer\GWRC_RGBI_BQ31_5K_0106.ecw';'New Group Layer\GWRC_RGBI_BQ31_5K_0107.ecw';'New Group Layer\GWRC_RGBI_BQ31_5K_0108.ecw';'New Group Layer\GWRC_RGBI_BQ31_5K_0109.ecw';'New Group Layer\GWRC_RGBI_BQ31_5K_0110.ecw';'New Group Layer\GWRC_RGBI_BQ31_5K_0205.ecw';'New Group Layer\GWRC_RGBI_BQ31_5K_0206.ecw';'New Group Layer\GWRC_RGBI_BQ31_5K_0207.ecw';'New Group Layer\GWRC_RGBI_BQ31_5K_0208.ecw';'New Group Layer\GWRC_RGBI_BQ31_5K_0209.ecw';'New Group Layer\GWRC_RGBI_BQ31_5K_0210.ecw';'New Group Layer\GWRC_RGBI_BQ31_5K_0302.ecw';'New Group Layer\GWRC_RGBI_BQ31_5K_0303.ecw';'New Group Layer\GWRC_RGBI_BQ31_5K_0304.ecw';'New Group Layer\GWRC_RGBI_BQ31_5K_0305.ecw';'New Group Layer\GWRC_RGBI_BQ31_5K_0306.ecw';'New Group Layer\GWRC_RGBI_BQ31_5K_0307.ecw';'New Group Layer\GWRC_RGBI_BQ31_5K_0308.ecw';'New Group Layer\GWRC_RGBI_BQ31_5K_0309.ecw';'New Group Layer\GWRC_RGBI_BQ31_5K_0310.ecw';'New Group Layer\GWRC_RGBI_BQ31_5K_0402.ecw';'New Group Layer\GWRC_RGBI_BQ31_5K_0403.ecw';'New Group Layer\GWRC_RGBI_BQ31_5K_0404.ecw';'New Group Layer\GWRC_RGBI_BQ31_5K_0405.ecw';'New Group Layer\GWRC_RGBI_BQ31_5K_0406.ecw';'New Group Layer\GWRC_RGBI_BQ31_5K_0407.ecw';'New Group Layer\GWRC_RGBI_BQ31_5K_0408.ecw';'New Group Layer\GWRC_RGBI_BQ31_5K_0409.ecw';'New Group Layer\GWRC_RGBI_BQ31_5K_0410.ecw';'New Group Layer\GWRC_RGBI_BQ31_5K_0502.ecw';'New Group Layer\GWRC_RGBI_BQ31_5K_0503.ecw';'New Group Layer\GWRC_RGBI_BQ31_5K_0504.ecw';'New Group Layer\GWRC_RGBI_BQ31_5K_0505.ecw';'New Group Layer\GWRC_RGBI_BQ31_5K_0506.ecw';'New Group Layer\GWRC_RGBI_BQ31_5K_0507.ecw';'New Group Layer\GWRC_RGBI_BQ31_5K_0508.ecw';'New Group Layer\GWRC_RGBI_BQ31_5K_0509.ecw';'New Group Layer\GWRC_RGBI_BQ31_5K_0510.ecw';'New Group Layer\GWRC_RGBI_BQ31_5K_0603.ecw';'New Group Layer\GWRC_RGBI_BQ31_5K_0604.ecw';'New Group Layer\GWRC_RGBI_BQ31_5K_0605.ecw';'New Group Layer\GWRC_RGBI_BQ31_5K_0606.ecw';'New Group Layer\GWRC_RGBI_BQ31_5K_0607.ecw';'New Group Layer\GWRC_RGBI_BQ31_5K_0608.ecw';'New Group Layer\GWRC_RGBI_BQ31_5K_0609.ecw';'New Group Layer\GWRC_RGBI_BQ31_5K_0610.ecw';'New Group Layer\GWRC_RGBI_BQ31_5K_0705.ecw';'New Group Layer\GWRC_RGBI_BQ31_5K_0706.ecw';'New Group Layer\GWRC_RGBI_BQ31_5K_0710.ecw';'New Group Layer\GWRC_RGBI_BQ31_5K_0810.ecw';'New Group Layer\GWRC_RGBI_BQ32_5K_0101.ecw';'New Group Layer\GWRC_RGBI_BQ32_5K_0102.ecw';'New Group Layer\GWRC_RGBI_BQ32_5K_0201.ecw';'New Group Layer\GWRC_RGBI_BQ32_5K_0202.ecw';'New Group Layer\GWRC_RGBI_BQ32_5K_0301.ecw';'New Group Layer\GWRC_RGBI_BQ32_5K_0302.ecw';'New Group Layer\GWRC_RGBI_BQ32_5K_0401.ecw';'New Group Layer\GWRC_RGBI_BQ32_5K_0402.ecw';'New Group Layer\GWRC_RGBI_BQ32_5K_0501.ecw';'New Group Layer\GWRC_RGBI_BQ32_5K_0502.ecw';'New Group Layer\GWRC_RGBI_BQ32_5K_0601.ecw';'New Group Layer\GWRC_RGBI_BQ32_5K_0602.ecw';'New Group Layer\GWRC_RGBI_BQ32_5K_0701.ecw';'New Group Layer\GWRC_RGBI_BQ32_5K_0702.ecw';'New Group Layer\GWRC_RGBI_BQ32_5K_0801.ecw';'New Group Layer\GWRC_RGBI_BQ32_5K_0802.ecw' D:\2021Aerials.gdb\wcc_rural_aerials2021 Last First # # NONE 0 None</Process>
<Process Date="20210721" Time="095758" ToolSource="c:\program files\arcgis\pro\Resources\ArcToolbox\toolboxes\Data Management Tools.tbx\Clip">Clip wcc_rural_aerials2021 "1734843.4699 5419335.4662 1760539.9716 5447160.1078" D:\2021Aerials.gdb\RuralAerials2021_Clip WGTN_Mask 256 ClippingGeometry MAINTAIN_EXTENT</Process>
<Process Date="20220706" Time="123647" ToolSource="c:\program files\arcgis\pro\Resources\ArcToolbox\toolboxes\Data Management Tools.tbx\CopyRaster">CopyRaster RuralAerials2021_Clip F:\2021Aerials.gdb\Imagery2021_Rural # # 256 NONE NONE "8 bit unsigned" NONE NONE "Esri Grid format" NONE CURRENT_SLICE NO_TRANSPOSE</Process>
</lineage>
<itemProps>
<itemName Sync="TRUE">wcc_raster.SDEADMIN.Imagery2021_Rural_1</itemName>
<imsContentType Sync="TRUE">002</imsContentType>
<nativeExtBox>
<westBL Sync="TRUE">1734843.469900</westBL>
<eastBL Sync="TRUE">1760539.971600</eastBL>
<southBL Sync="TRUE">5419335.466200</southBL>
<northBL Sync="TRUE">5447160.107800</northBL>
<exTypeCode Sync="TRUE">1</exTypeCode>
</nativeExtBox>
<itemLocation>
<linkage Sync="TRUE">Server=GISDBPR2; Service=sde:sqlserver:GISDBPR2\GISPR2; Database=wcc_raster; User=sdeadmin; Version=sde.DEFAULT</linkage>
<protocol Sync="TRUE">ArcSDE Connection</protocol>
</itemLocation>
</itemProps>
<coordRef>
<type Sync="TRUE">Projected</type>
<geogcsn Sync="TRUE">GCS_NZGD_2000</geogcsn>
<csUnits Sync="TRUE">Linear Unit: Meter (1.000000)</csUnits>
<projcsn Sync="TRUE">NZGD_2000_New_Zealand_Transverse_Mercator</projcsn>
<peXml Sync="TRUE">&lt;ProjectedCoordinateSystem xsi:type='typens:ProjectedCoordinateSystem' xmlns:xsi='http://www.w3.org/2001/XMLSchema-instance' xmlns:xs='http://www.w3.org/2001/XMLSchema' xmlns:typens='http://www.esri.com/schemas/ArcGIS/10.5'&gt;&lt;WKT&gt;PROJCS[&amp;quot;NZGD_2000_New_Zealand_Transverse_Mercator&amp;quot;,GEOGCS[&amp;quot;GCS_NZGD_2000&amp;quot;,DATUM[&amp;quot;D_NZGD_2000&amp;quot;,SPHEROID[&amp;quot;GRS_1980&amp;quot;,6378137.0,298.257222101]],PRIMEM[&amp;quot;Greenwich&amp;quot;,0.0],UNIT[&amp;quot;Degree&amp;quot;,0.0174532925199433]],PROJECTION[&amp;quot;Transverse_Mercator&amp;quot;],PARAMETER[&amp;quot;False_Easting&amp;quot;,1600000.0],PARAMETER[&amp;quot;False_Northing&amp;quot;,10000000.0],PARAMETER[&amp;quot;Central_Meridian&amp;quot;,173.0],PARAMETER[&amp;quot;Scale_Factor&amp;quot;,0.9996],PARAMETER[&amp;quot;Latitude_Of_Origin&amp;quot;,0.0],UNIT[&amp;quot;Meter&amp;quot;,1.0],AUTHORITY[&amp;quot;EPSG&amp;quot;,2193]]&lt;/WKT&gt;&lt;XOrigin&gt;-4020900&lt;/XOrigin&gt;&lt;YOrigin&gt;1900&lt;/YOrigin&gt;&lt;XYScale&gt;450445547.3910538&lt;/XYScale&gt;&lt;ZOrigin&gt;-100000&lt;/ZOrigin&gt;&lt;ZScale&gt;10000&lt;/ZScale&gt;&lt;MOrigin&gt;-100000&lt;/MOrigin&gt;&lt;MScale&gt;10000&lt;/MScale&gt;&lt;XYTolerance&gt;0.001&lt;/XYTolerance&gt;&lt;ZTolerance&gt;0.00020000000000000001&lt;/ZTolerance&gt;&lt;MTolerance&gt;0.00020000000000000001&lt;/MTolerance&gt;&lt;HighPrecision&gt;true&lt;/HighPrecision&gt;&lt;WKID&gt;2193&lt;/WKID&gt;&lt;LatestWKID&gt;2193&lt;/LatestWKID&gt;&lt;/ProjectedCoordinateSystem&gt;</peXml>
</coordRef>
</DataProperties>
<SyncDate>20220707</SyncDate>
<SyncTime>09345000</SyncTime>
<ModDate>20220707</ModDate>
<ModTime>09345000</ModTime>
</Esri>
<dataIdInfo>
<envirDesc Sync="TRUE"> Version 6.2 (Build 9200) ; Esri ArcGIS 10.5.1.7333</envirDesc>
<dataLang>
<languageCode Sync="TRUE" value="eng"/>
<countryCode Sync="TRUE" value="NZL"/>
</dataLang>
<idCitation>
<resTitle Sync="TRUE">Imagery2021GW</resTitle>
<presForm>
<PresFormCd Sync="TRUE" value="011"/>
</presForm>
</idCitation>
<spatRpType>
<SpatRepTypCd Sync="TRUE" value="002"/>
</spatRpType>
<dataExt>
<geoEle>
<GeoBndBox esriExtentType="search">
<exTypeCode Sync="TRUE">1</exTypeCode>
<westBL Sync="TRUE">174.606124</westBL>
<eastBL Sync="TRUE">174.919362</eastBL>
<northBL Sync="TRUE">-41.110991</northBL>
<southBL Sync="TRUE">-41.366205</southBL>
</GeoBndBox>
</geoEle>
</dataExt>
<idAbs/>
<searchKeys>
<keyword>WCC</keyword>
<keyword>Aerials</keyword>
</searchKeys>
<idPurp>Rural aerial imagery provided by GWRC</idPurp>
<idCredit/>
<resConst>
<Consts>
<useLimit/>
</Consts>
</resConst>
</dataIdInfo>
<mdLang>
<languageCode Sync="TRUE" value="eng"/>
<countryCode Sync="TRUE" value="NZL"/>
</mdLang>
<distInfo>
<distFormat>
<formatName Sync="TRUE">SDE Raster Dataset</formatName>
</distFormat>
</distInfo>
<mdHrLv>
<ScopeCd Sync="TRUE" value="005"/>
</mdHrLv>
<mdHrLvName Sync="TRUE">dataset</mdHrLvName>
<refSysInfo>
<RefSystem>
<refSysID>
<identCode Sync="TRUE" code="2193"/>
<idCodeSpace Sync="TRUE">EPSG</idCodeSpace>
<idVersion Sync="TRUE">7.9.4(9.0.0)</idVersion>
</refSysID>
</RefSystem>
</refSysInfo>
<spdoinfo>
<rastinfo>
<rasttype Sync="TRUE">Pixel</rasttype>
<rowcount Sync="TRUE">92749</rowcount>
<colcount Sync="TRUE">85655</colcount>
<rastxsz Sync="TRUE">0.300000</rastxsz>
<rastysz Sync="TRUE">0.299999</rastysz>
<rastbpp Sync="TRUE">8</rastbpp>
<vrtcount Sync="TRUE">1</vrtcount>
<rastorig Sync="TRUE">Upper Left</rastorig>
<rastcmap Sync="TRUE">FALSE</rastcmap>
<rastcomp Sync="TRUE">LZ77</rastcomp>
<rastband Sync="TRUE">4</rastband>
<rastdtyp Sync="TRUE">pixel codes</rastdtyp>
<rastifor Sync="TRUE">SDR</rastifor>
<rastplyr Sync="TRUE">TRUE</rastplyr>
</rastinfo>
</spdoinfo>
<spref>
<horizsys>
<planar>
<planci>
<plance Sync="TRUE">row and column</plance>
<coordrep>
<absres Sync="TRUE">0.300000</absres>
<ordres Sync="TRUE">0.299999</ordres>
</coordrep>
</planci>
</planar>
</horizsys>
</spref>
<mdDateSt Sync="TRUE">20220707</mdDateSt>
</metadata>
