{
 "currentVersion": 10.91,
 "serviceDescription": "Imagery/Imagery2021GW",
 "name": "Imagery/Imagery2021GW",
 "description": "",
 "extent": {
  "xmin": 1734843.4699,
  "ymin": 5419335.4662,
  "xmax": 1760539.9715999998,
  "ymax": 5447160.1078,
  "spatialReference": {
   "wkid": 2193,
   "latestWkid": 2193
  }
 },
 "initialExtent": {
  "xmin": 1734843.4699,
  "ymin": 5419335.4662,
  "xmax": 1760539.9715999998,
  "ymax": 5447160.1078,
  "spatialReference": {
   "wkid": 2193,
   "latestWkid": 2193
  }
 },
 "fullExtent": {
  "xmin": 1734843.4699,
  "ymin": 5419335.4662,
  "xmax": 1760539.9715999998,
  "ymax": 5447160.1078,
  "spatialReference": {
   "wkid": 2193,
   "latestWkid": 2193
  }
 },
 "hasMultidimensions": false,
 "pixelSizeX": 0.30000001984705976,
 "pixelSizeY": 0.2999993703436228,
 "datasetFormat": "SDR",
 "uncompressedSize": 31777662380,
 "blockWidth": 128,
 "blockHeight": 128,
 "compressionType": "LZ77",
 "bandNames": [
  "Band_1",
  "Band_2",
  "Band_3",
  "Band_4"
 ],
 "allowCopy": true,
 "allowAnalysis": true,
 "bandCount": 4,
 "pixelType": "U8",
 "minPixelSize": 0,
 "maxPixelSize": 0,
 "copyrightText": "",
 "serviceDataType": "esriImageServiceDataTypeGeneric",
 "serviceSourceType": "esriImageServiceSourceTypeDataset",
 "minValues": [
  0,
  0,
  0,
  0
 ],
 "maxValues": [
  255,
  255,
  255,
  255
 ],
 "meanValues": [
  94.8388591867324,
  98.35538072998246,
  88.00122737973611,
  160.0916967576477
 ],
 "stdvValues": [
  50.005454058936145,
  42.5023648243075,
  38.609136474071725,
  48.940870901194565
 ],
 "objectIdField": "",
 "fields": [],
 "capabilities": "Mensuration,Image,Metadata",
 "defaultMosaicMethod": "Center",
 "allowedMosaicMethods": "",
 "sortField": "",
 "sortValue": null,
 "sortAscending": true,
 "mosaicOperator": "First",
 "defaultCompressionQuality": 75,
 "defaultResamplingMethod": "Bilinear",
 "maxImageHeight": 4100,
 "maxImageWidth": 15000,
 "allowRasterFunction": true,
 "rasterFunctionInfos": [
  {
   "name": "None",
   "description": "",
   "help": ""
  }
 ],
 "rasterTypeInfos": [
  {
   "name": "Raster Dataset",
   "description": "Supports all ArcGIS Raster Datasets",
   "help": ""
  }
 ],
 "mensurationCapabilities": "Basic",
 "hasHistograms": true,
 "hasColormap": false,
 "hasRasterAttributeTable": false,
 "minScale": 0,
 "maxScale": 0,
 "exportTilesAllowed": false,
 "supportsStatistics": false,
 "supportsAdvancedQueries": false,
 "editFieldsInfo": null,
 "ownershipBasedAccessControlForRasters": null,
 "allowComputeTiePoints": false,
 "useStandardizedQueries": true,
 "advancedQueryCapabilities": {
  "useStandardizedQueries": true,
  "supportsStatistics": false,
  "supportsOrderBy": false,
  "supportsDistinct": false,
  "supportsPagination": false
 },
 "spatialReference": {
  "wkid": 2193,
  "latestWkid": 2193
 }
}