View In:
ArcGIS JavaScript
ArcGIS Online map viewer
Google Earth
ArcMap
View Footprint In:
ArcGIS Online map viewer
Service Description: DEM created from 2019/2020 LiDAR. See supplied Metadata document form Aerial Surveys for more information.
Name: Elevation/DigitalElevation1Metre_WGS84_2020
Description: DEM created from 2019/2020 LiDAR. See supplied Metadata document form Aerial Surveys for more information.
Single Fused Map Cache: false
Extent:
XMin: 1.9446751860372327E7
YMin: -5066825.543818354
XMax: 1.9466544860372327E7
YMax: -5033793.543818354
Spatial Reference:
102100
(3857)
Initial Extent:
XMin: 1.9446751860372327E7
YMin: -5066825.543818354
XMax: 1.9466544860372327E7
YMax: -5033793.543818354
Spatial Reference:
102100
(3857)
Full Extent:
XMin: 1.9446751860372327E7
YMin: -5066825.543818354
XMax: 1.9466544860372327E7
YMax: -5033793.543818354
Spatial Reference:
102100
(3857)
Pixel Size X: 1.0
Pixel Size Y: 1.0
Band Count: 1
Pixel Type: F32
RasterFunction Infos: {"name":"None","description":"","help":""}
Mensuration Capabilities: Basic
Has Histograms: true
Has Colormap: false
Has Multi Dimensions : false
Rendering Rule:
Min Scale: 0
Max Scale: 0
Copyright Text:
Service Data Type: esriImageServiceDataTypeGeneric
Min Values: -32767
Max Values: 496.5419921875
Mean Values: -7.09659996792479
Standard Deviation Values: 1973.7184805683007
Object ID Field:
Fields:
None
Default Mosaic Method: Center
Allowed Mosaic Methods:
SortField:
SortValue: null
Mosaic Operator: First
Default Compression Quality: 75
Default Resampling Method: Bilinear
Max Record Count: null
Max Image Height: 25000
Max Image Width: 25000
Max Download Image Count: null
Max Mosaic Image Count: null
Allow Raster Function: true
Allow Compute TiePoints: false
Supports Statistics: false
Supports Advanced Queries: false
Use StandardizedQueries: true
Raster Type Infos:
Name: Raster Dataset
Description: Supports all ArcGIS Raster Datasets
Help:
Has Raster Attribute Table: false
Edit Fields Info: null
Ownership Based AccessControl For Rasters: null
Child Resources:
Info
Histograms
Key Properties
Legend
MultiDimensionalInfo
rasterFunctionInfos
Supported Operations:
Export Image
Identify
Measure
Compute Histograms
Compute Statistics Histograms
Get Samples
Compute Class Statistics