View In:
ArcGIS JavaScript
ArcGIS Online Map Viewer
ArcGIS Earth
ArcMap
View Footprint In:
ArcGIS Online Map Viewer
Service Description: Imagery/Imagery2017GW
Name: Imagery/Imagery2017GW
Description:
Single Fused Map Cache: false
Extent:
XMin: 1734400.1287038876
YMin: 5416799.906723626
XMax: 1760800.1286874963
YMax: 5445599.9067951515
Spatial Reference: 2193
(2193)
LatestVCSWkid(0)
Initial Extent:
XMin: 1734400.1287038876
YMin: 5416799.906723626
XMax: 1760800.1286874963
YMax: 5445599.9067951515
Spatial Reference: 2193
(2193)
LatestVCSWkid(0)
Full Extent:
XMin: 1734400.1287038876
YMin: 5416799.906723626
XMax: 1760800.1286874963
YMax: 5445599.9067951515
Spatial Reference: 2193
(2193)
LatestVCSWkid(0)
Pixel Size X: 0.2999999998137355
Pixel Size Y: 0.30000000074505806
Band Count: 4
Pixel Type: U8
RasterFunction Infos: {"rasterFunctionInfos": [{
"name": "None",
"description": "",
"help": ""
}]}
Mensuration Capabilities: Basic
Has Histograms: true
Has Colormap: false
Has Multi Dimensions : false
Rendering Rule:
Min Scale: 0
Max Scale: 0
Copyright Text:
Service Data Type: esriImageServiceDataTypeGeneric
Min Values: 10, 10, 10, 7
Max Values: 255, 255, 255, 255
Mean Values: 105.93209908081897, 116.58644809545618, 120.30577296180556, 115.23857731604706
Standard Deviation Values: 42.856097865588026, 38.131270572912065, 34.95387002962267, 40.40157442988829
Object ID Field:
Fields:
None
Default Mosaic Method: Center
Allowed Mosaic Methods:
SortField:
SortValue: null
Mosaic Operator: First
Default Compression Quality: 75
Default Resampling Method: Bilinear
Max Record Count: null
Max Image Height: 4100
Max Image Width: 15000
Max Download Image Count: null
Max Mosaic Image Count: null
Allow Raster Function: true
Allow Copy: true
Allow Analysis: true
Allow Compute TiePoints: false
Supports Statistics: false
Supports Advanced Queries: false
Use StandardizedQueries: true
Raster Type Infos:
Name: Raster Dataset
Description: Supports all ArcGIS Raster Datasets
Help:
Has Raster Attribute Table: false
Edit Fields Info: null
Ownership Based AccessControl For Rasters: null
Child Resources:
Info
Histograms
Statistics
Key Properties
Legend
Raster Function Infos
Supported Operations:
Export Image
Identify
Measure
Compute Histograms
Compute Statistics Histograms
Get Samples
Compute Class Statistics
Query Boundary
Compute Pixel Location
Compute Angles
Validate
Project