View In:
ArcGIS JavaScript
ArcGIS Online Map Viewer
ArcGIS Earth
ArcMap
View Footprint In:
ArcGIS Online Map Viewer
Service Description: Imagery/Imagery2021GW
Name: Imagery/Imagery2021GW
Description:
Single Fused Map Cache: false
Extent:
XMin: 1734843.4699
YMin: 5419335.4662
XMax: 1760539.9715999998
YMax: 5447160.1078
Spatial Reference: 2193
(2193)
LatestVCSWkid(0)
Initial Extent:
XMin: 1734843.4699
YMin: 5419335.4662
XMax: 1760539.9715999998
YMax: 5447160.1078
Spatial Reference: 2193
(2193)
LatestVCSWkid(0)
Full Extent:
XMin: 1734843.4699
YMin: 5419335.4662
XMax: 1760539.9715999998
YMax: 5447160.1078
Spatial Reference: 2193
(2193)
LatestVCSWkid(0)
Pixel Size X: 0.30000001984705976
Pixel Size Y: 0.2999993703436228
Band Count: 4
Pixel Type: U8
RasterFunction Infos: {"rasterFunctionInfos": [{
"name": "None",
"description": "",
"help": ""
}]}
Mensuration Capabilities: Basic
Has Histograms: true
Has Colormap: false
Has Multi Dimensions : false
Rendering Rule:
Min Scale: 0
Max Scale: 0
Copyright Text:
Service Data Type: esriImageServiceDataTypeGeneric
Min Values: 0, 0, 0, 0
Max Values: 255, 255, 255, 255
Mean Values: 94.8388591867324, 98.35538072998246, 88.00122737973611, 160.0916967576477
Standard Deviation Values: 50.005454058936145, 42.5023648243075, 38.609136474071725, 48.940870901194565
Object ID Field:
Fields:
None
Default Mosaic Method: Center
Allowed Mosaic Methods:
SortField:
SortValue: null
Mosaic Operator: First
Default Compression Quality: 75
Default Resampling Method: Bilinear
Max Record Count: null
Max Image Height: 4100
Max Image Width: 15000
Max Download Image Count: null
Max Mosaic Image Count: null
Allow Raster Function: true
Allow Copy: true
Allow Analysis: true
Allow Compute TiePoints: false
Supports Statistics: false
Supports Advanced Queries: false
Use StandardizedQueries: true
Raster Type Infos:
Name: Raster Dataset
Description: Supports all ArcGIS Raster Datasets
Help:
Has Raster Attribute Table: false
Edit Fields Info: null
Ownership Based AccessControl For Rasters: null
Child Resources:
Info
Histograms
Statistics
Key Properties
Legend
Raster Function Infos
Supported Operations:
Export Image
Identify
Measure
Compute Histograms
Compute Statistics Histograms
Get Samples
Compute Class Statistics
Query Boundary
Compute Pixel Location
Compute Angles
Validate
Project